BEGIN:VCALENDAR
PRODID:-//eluceo/ical//2.0/EN
VERSION:2.0
CALSCALE:GREGORIAN
BEGIN:VEVENT
UID:e64e2af19cfaadad4ea8993d2a036483
DTSTAMP:20260419T151427Z
SUMMARY:DON DU SANG "mon sang pour les autres"
DESCRIPTION:Website: https://monsangpourlesautres.fr
URL:https://tulle.d1740.polaris.rotary.fr/en/agenda/show/53617
DTSTART;TZID=Europe/Zurich:20260224T140000
DTEND;TZID=Europe/Zurich:20260224T190000
LOCATION:SALLE DES FETES IMPASSE LATREILLE à TULLE
CATEGORIES:Rotary
END:VEVENT
BEGIN:VTIMEZONE
TZID:Europe/Zurich
BEGIN:STANDARD
DTSTART:20260224T140000
TZNAME:CET
TZOFFSETTO:+0100
TZOFFSETFROM:+0100
END:STANDARD
END:VTIMEZONE
END:VCALENDAR
